BEGIN:VCALENDAR
VERSION:2.0
PRODID:-//Chaffey Federal Credit Union - ECPv6.15.20//NONSGML v1.0//EN
CALSCALE:GREGORIAN
METHOD:PUBLISH
X-ORIGINAL-URL:https://www.chaffey.com
X-WR-CALDESC:Events for Chaffey Federal Credit Union
REFRESH-INTERVAL;VALUE=DURATION:PT1H
X-Robots-Tag:noindex
X-PUBLISHED-TTL:PT1H
BEGIN:VTIMEZONE
TZID:America/Los_Angeles
BEGIN:DAYLIGHT
TZOFFSETFROM:-0800
TZOFFSETTO:-0700
TZNAME:PDT
DTSTART:20250309T100000
END:DAYLIGHT
BEGIN:STANDARD
TZOFFSETFROM:-0700
TZOFFSETTO:-0800
TZNAME:PST
DTSTART:20251102T090000
END:STANDARD
BEGIN:DAYLIGHT
TZOFFSETFROM:-0800
TZOFFSETTO:-0700
TZNAME:PDT
DTSTART:20260308T100000
END:DAYLIGHT
BEGIN:STANDARD
TZOFFSETFROM:-0700
TZOFFSETTO:-0800
TZNAME:PST
DTSTART:20261101T090000
END:STANDARD
BEGIN:DAYLIGHT
TZOFFSETFROM:-0800
TZOFFSETTO:-0700
TZNAME:PDT
DTSTART:20270314T100000
END:DAYLIGHT
BEGIN:STANDARD
TZOFFSETFROM:-0700
TZOFFSETTO:-0800
TZNAME:PST
DTSTART:20271107T090000
END:STANDARD
END:VTIMEZONE
BEGIN:VEVENT
DTSTART;VALUE=DATE:20260327
DTEND;VALUE=DATE:20260328
DTSTAMP:20260421T104123
CREATED:20260410T195750Z
LAST-MODIFIED:20260410T195834Z
UID:3103-1774569600-1774655999@www.chaffey.com
SUMMARY:Community: Bonita USD
DESCRIPTION:We spent the day at Bonita USD’s Career and Resource fair\, preparing students with handouts on getting ready for your first job\, understanding your first paycheck\, and budgeting!
URL:https://www.chaffey.com/event/community-bonita-usd/
LOCATION:CA
CATEGORIES:Community Involvement
ATTACH;FMTTYPE=image/png:https://www.chaffey.com/wp-content/uploads/2026/04/Bonita-USD-Career-Fair.png
END:VEVENT
END:VCALENDAR